BEGIN:VCALENDAR
VERSION:2.0
PRODID:-//Hotham Ski Association - ECPv6.15.20//NONSGML v1.0//EN
CALSCALE:GREGORIAN
METHOD:PUBLISH
X-WR-CALNAME:Hotham Ski Association
X-ORIGINAL-URL:https://hsa.asn.au
X-WR-CALDESC:Events for Hotham Ski Association
REFRESH-INTERVAL;VALUE=DURATION:PT1H
X-Robots-Tag:noindex
X-PUBLISHED-TTL:PT1H
BEGIN:VTIMEZONE
TZID:Australia/Melbourne
BEGIN:STANDARD
TZOFFSETFROM:+1100
TZOFFSETTO:+1000
TZNAME:AEST
DTSTART:20250405T160000
END:STANDARD
BEGIN:DAYLIGHT
TZOFFSETFROM:+1000
TZOFFSETTO:+1100
TZNAME:AEDT
DTSTART:20251004T160000
END:DAYLIGHT
BEGIN:STANDARD
TZOFFSETFROM:+1100
TZOFFSETTO:+1000
TZNAME:AEST
DTSTART:20260404T160000
END:STANDARD
BEGIN:DAYLIGHT
TZOFFSETFROM:+1000
TZOFFSETTO:+1100
TZNAME:AEDT
DTSTART:20261003T160000
END:DAYLIGHT
BEGIN:STANDARD
TZOFFSETFROM:+1100
TZOFFSETTO:+1000
TZNAME:AEST
DTSTART:20270403T160000
END:STANDARD
BEGIN:DAYLIGHT
TZOFFSETFROM:+1000
TZOFFSETTO:+1100
TZNAME:AEDT
DTSTART:20271002T160000
END:DAYLIGHT
END:VTIMEZONE
BEGIN:VEVENT
DTSTART;TZID=Australia/Melbourne:20260606T190000
DTEND;TZID=Australia/Melbourne:20260918T230000
DTSTAMP:20260421T184551
CREATED:20260223T060723Z
LAST-MODIFIED:20260224T012819Z
UID:10000040-1780772400-1789772400@hsa.asn.au
SUMMARY:HSA Snowball 2026
DESCRIPTION:Save the date for the Hotham Snowball to be held at Jack Frost on Saturday 6th of June 2026. \nFurther details coming soon!! \n 
URL:https://hsa.asn.au/event/hsa-snowball-2026/
LOCATION:Jack Frost\, 110 Great Alpine Road\, Hotham Heights\, VIC\, 3741\, Australia
END:VEVENT
END:VCALENDAR