BEGIN:VCALENDAR
VERSION:2.0
PRODID:-//Hotham Ski Association - ECPv6.15.20//NONSGML v1.0//EN
CALSCALE:GREGORIAN
METHOD:PUBLISH
X-WR-CALNAME:Hotham Ski Association
X-ORIGINAL-URL:https://hsa.asn.au
X-WR-CALDESC:Events for Hotham Ski Association
REFRESH-INTERVAL;VALUE=DURATION:PT1H
X-Robots-Tag:noindex
X-PUBLISHED-TTL:PT1H
BEGIN:VTIMEZONE
TZID:Australia/Melbourne
BEGIN:STANDARD
TZOFFSETFROM:+1100
TZOFFSETTO:+1000
TZNAME:AEST
DTSTART:20250405T160000
END:STANDARD
BEGIN:DAYLIGHT
TZOFFSETFROM:+1000
TZOFFSETTO:+1100
TZNAME:AEDT
DTSTART:20251004T160000
END:DAYLIGHT
BEGIN:STANDARD
TZOFFSETFROM:+1100
TZOFFSETTO:+1000
TZNAME:AEST
DTSTART:20260404T160000
END:STANDARD
BEGIN:DAYLIGHT
TZOFFSETFROM:+1000
TZOFFSETTO:+1100
TZNAME:AEDT
DTSTART:20261003T160000
END:DAYLIGHT
BEGIN:STANDARD
TZOFFSETFROM:+1100
TZOFFSETTO:+1000
TZNAME:AEST
DTSTART:20270403T160000
END:STANDARD
BEGIN:DAYLIGHT
TZOFFSETFROM:+1000
TZOFFSETTO:+1100
TZNAME:AEDT
DTSTART:20271002T160000
END:DAYLIGHT
END:VTIMEZONE
BEGIN:VEVENT
DTSTART;TZID=Australia/Melbourne:20260718T100000
DTEND;TZID=Australia/Melbourne:20260718T120000
DTSTAMP:20260423T000347
CREATED:20260312T025950Z
LAST-MODIFIED:20260312T025950Z
UID:10000043-1784368800-1784376000@hsa.asn.au
SUMMARY:HSA Interclub Race 2026
DESCRIPTION:The HSA has fixed the date with Vail to stage this year’s Interclub Ski Race. The event will be held on Saturday\, 18th July at 1000 (time TBC). \nSo start organising your teams now! Full details\, including the online registration process and costs\, will be released in due course. \nHSA Committee
URL:https://hsa.asn.au/event/hsa-interclub-race-2026/
LOCATION:Sun Run\, Mount Hotham.\, VIC
END:VEVENT
END:VCALENDAR